Package: Clomial Version: 1.45.0 Command: /home/biocbuild/bbs-3.22-bioc/R/bin/R CMD check --install=check:Clomial.install-out.txt --library=/home/biocbuild/bbs-3.22-bioc/R/site-library --timings Clomial_1.45.0.tar.gz StartedAt: 2025-10-22 22:16:07 -0400 (Wed, 22 Oct 2025) EndedAt: 2025-10-22 22:17:42 -0400 (Wed, 22 Oct 2025) EllapsedTime: 95.1 seconds RetCode: 0 Status: OK CheckDir: Clomial.Rcheck Warnings: 0