Package: Clomial Version: 1.47.0 Command: /home/biocbuild/bbs-3.23-bioc/R/bin/R CMD INSTALL Clomial StartedAt: 2025-11-03 15:03:40 -0500 (Mon, 03 Nov 2025) EndedAt: 2025-11-03 15:04:01 -0500 (Mon, 03 Nov 2025) EllapsedTime: 21.3 seconds RetCode: 0 Status: OK