Package: Clomial Version: 1.47.0 Command: /home/biocbuild/bbs-3.23-bioc/R/bin/R CMD build --keep-empty-dirs --no-resave-data Clomial StartedAt: 2025-11-02 16:54:00 -0500 (Sun, 02 Nov 2025) EndedAt: 2025-11-02 16:54:14 -0500 (Sun, 02 Nov 2025) EllapsedTime: 14.0 seconds RetCode: 0 Status: OK PackageFile: Clomial_1.47.0.tar.gz PackageFileSize: 1.461 MiB