Package: Clomial Version: 1.45.0 Command: rm -rf Clomial.buildbin-libdir && mkdir Clomial.buildbin-libdir && /Users/biocbuild/BBS/utils/build-universal.sh Clomial_1.45.0.tar.gz /Library/Frameworks/R.framework/Resources/bin/R Clomial.buildbin-libdir StartedAt: 2025-10-01 01:35:30 -0400 (Wed, 01 Oct 2025) EndedAt: 2025-10-01 01:35:35 -0400 (Wed, 01 Oct 2025) EllapsedTime: 5.8 seconds RetCode: 0 Status: OK PackageFile: Clomial_1.45.0.tgz PackageFileSize: 1.525 MiB