Package: CleanUpRNAseq Version: 1.3.2 Command: /home/biocbuild/R/R/bin/R CMD INSTALL CleanUpRNAseq StartedAt: 2025-10-09 22:11:51 -0000 (Thu, 09 Oct 2025) EndedAt: 2025-10-09 22:12:48 -0000 (Thu, 09 Oct 2025) EllapsedTime: 57.3 seconds RetCode: 0 Status: OK