Package: CleanUpRNAseq Version: 1.3.2 Command: /home/biocbuild/R/R/bin/R CMD build --keep-empty-dirs --no-resave-data CleanUpRNAseq StartedAt: 2025-10-09 23:33:19 -0000 (Thu, 09 Oct 2025) EndedAt: 2025-10-09 23:35:20 -0000 (Thu, 09 Oct 2025) EllapsedTime: 121.0 seconds RetCode: 0 Status: OK PackageFile: CleanUpRNAseq_1.3.2.tar.gz PackageFileSize: 2.006 MiB