Package: CleanUpRNAseq Version: 1.3.2 Command: chmod a+r CleanUpRNAseq -R && F:\biocbuild\bbs-3.22-bioc\R\bin\R.exe CMD build --keep-empty-dirs --no-resave-data CleanUpRNAseq StartedAt: 2025-08-14 19:09:08 -0400 (Thu, 14 Aug 2025) EndedAt: 2025-08-14 19:10:58 -0400 (Thu, 14 Aug 2025) EllapsedTime: 110.3 seconds RetCode: 0 Status: OK PackageFile: CleanUpRNAseq_1.3.2.tar.gz PackageFileSize: 1.999 MiB