Package: CleanUpRNAseq Version: 1.5.0 Command: /home/biocbuild/bbs-3.23-bioc/R/bin/R CMD check --install=check:CleanUpRNAseq.install-out.txt --library=/home/biocbuild/bbs-3.23-bioc/R/site-library --timings CleanUpRNAseq_1.5.0.tar.gz StartedAt: 2025-11-06 21:54:34 -0500 (Thu, 06 Nov 2025) EndedAt: 2025-11-06 22:00:49 -0500 (Thu, 06 Nov 2025) EllapsedTime: 375.6 seconds RetCode: 0 Status: OK CheckDir: CleanUpRNAseq.Rcheck Warnings: 0