Package: CleanUpRNAseq Version: 1.5.0 Command: /home/biocbuild/bbs-3.23-bioc/R/bin/R CMD build --keep-empty-dirs --no-resave-data CleanUpRNAseq StartedAt: 2025-11-03 16:46:58 -0500 (Mon, 03 Nov 2025) EndedAt: 2025-11-03 16:48:20 -0500 (Mon, 03 Nov 2025) EllapsedTime: 82.1 seconds RetCode: 0 Status: OK PackageFile: CleanUpRNAseq_1.5.0.tar.gz PackageFileSize: 2.41 MiB