Package: ClassifyR Version: 3.13.8 Command: /home/biocbuild/R/R/bin/R CMD check --install=check:ClassifyR.install-out.txt --library=/home/biocbuild/R/R/site-library --no-vignettes --timings ClassifyR_3.13.8.tar.gz StartedAt: 2025-10-21 06:33:23 -0000 (Tue, 21 Oct 2025) EndedAt: 2025-10-21 06:40:03 -0000 (Tue, 21 Oct 2025) EllapsedTime: 400.4 seconds RetCode: 0 Status: OK CheckDir: ClassifyR.Rcheck Warnings: 0