Package: ClassifyR Version: 3.15.0 Command: /home/biocbuild/bbs-3.23-bioc/R/bin/R CMD INSTALL ClassifyR StartedAt: 2025-11-07 15:29:07 -0500 (Fri, 07 Nov 2025) EndedAt: 2025-11-07 15:29:41 -0500 (Fri, 07 Nov 2025) EllapsedTime: 34.4 seconds RetCode: 0 Status: OK