Package: ClassifyR Version: 3.15.0 Command: /home/biocbuild/bbs-3.23-bioc/R/bin/R CMD check --install=check:ClassifyR.install-out.txt --library=/home/biocbuild/bbs-3.23-bioc/R/site-library --timings ClassifyR_3.15.0.tar.gz StartedAt: 2025-11-07 21:58:56 -0500 (Fri, 07 Nov 2025) EndedAt: 2025-11-07 22:05:25 -0500 (Fri, 07 Nov 2025) EllapsedTime: 388.6 seconds RetCode: 0 Status: OK CheckDir: ClassifyR.Rcheck Warnings: 0