Package: ClassifyR Version: 3.15.0 Command: /home/biocbuild/bbs-3.23-bioc/R/bin/R CMD build --keep-empty-dirs --no-resave-data ClassifyR StartedAt: 2025-11-07 16:47:49 -0500 (Fri, 07 Nov 2025) EndedAt: 2025-11-07 16:49:41 -0500 (Fri, 07 Nov 2025) EllapsedTime: 111.1 seconds RetCode: 0 Status: OK PackageFile: ClassifyR_3.15.0.tar.gz PackageFileSize: 2.412 MiB