Package: ClassifyR Version: 3.13.8 Command: /Library/Frameworks/R.framework/Resources/bin/R CMD check --install=check:ClassifyR.install-out.txt --library=/Library/Frameworks/R.framework/Resources/library --no-vignettes --timings ClassifyR_3.13.8.tar.gz StartedAt: 2025-10-13 20:52:34 -0400 (Mon, 13 Oct 2025) EndedAt: 2025-10-13 20:58:41 -0400 (Mon, 13 Oct 2025) EllapsedTime: 366.9 seconds RetCode: 0 Status: WARNINGS CheckDir: ClassifyR.Rcheck Warnings: 1