Package: CiteFuse Version: 1.23.0 Command: /home/biocbuild/bbs-3.23-bioc/R/bin/R CMD INSTALL CiteFuse StartedAt: 2025-11-20 15:54:23 -0500 (Thu, 20 Nov 2025) EndedAt: 2025-11-20 15:55:11 -0500 (Thu, 20 Nov 2025) EllapsedTime: 48.3 seconds RetCode: 0 Status: OK