Package: CiteFuse Version: 1.23.0 Command: /home/biocbuild/bbs-3.23-bioc/R/bin/R CMD build --keep-empty-dirs --no-resave-data CiteFuse StartedAt: 2025-11-20 16:49:34 -0500 (Thu, 20 Nov 2025) EndedAt: 2025-11-20 16:52:11 -0500 (Thu, 20 Nov 2025) EllapsedTime: 157.2 seconds RetCode: 0 Status: OK PackageFile: CiteFuse_1.23.0.tar.gz PackageFileSize: 3.138 MiB