Package: CiteFuse Version: 1.23.0 Command: /Library/Frameworks/R.framework/Resources/bin/R CMD INSTALL CiteFuse StartedAt: 2025-11-20 15:48:46 -0500 (Thu, 20 Nov 2025) EndedAt: 2025-11-20 15:49:47 -0500 (Thu, 20 Nov 2025) EllapsedTime: 61.0 seconds RetCode: 0 Status: OK