Package: CiteFuse Version: 1.23.0 Command: /Library/Frameworks/R.framework/Resources/bin/R CMD build --keep-empty-dirs --no-resave-data CiteFuse StartedAt: 2025-11-21 16:29:25 -0500 (Fri, 21 Nov 2025) EndedAt: 2025-11-21 16:32:25 -0500 (Fri, 21 Nov 2025) EllapsedTime: 179.5 seconds RetCode: 0 Status: OK PackageFile: CiteFuse_1.23.0.tar.gz PackageFileSize: 3.281 MiB