Package: CiteFuse Version: 1.23.0 Command: rm -rf CiteFuse.buildbin-libdir && mkdir CiteFuse.buildbin-libdir && /Users/biocbuild/BBS/utils/build-universal.sh CiteFuse_1.23.0.tar.gz /Library/Frameworks/R.framework/Resources/bin/R CiteFuse.buildbin-libdir StartedAt: 2025-11-21 01:26:40 -0500 (Fri, 21 Nov 2025) EndedAt: 2025-11-21 01:27:48 -0500 (Fri, 21 Nov 2025) EllapsedTime: 68.5 seconds RetCode: 0 Status: OK PackageFile: CiteFuse_1.23.0.tgz PackageFileSize: 3.433 MiB