Package: CiteFuse Version: 1.21.1 Command: /Library/Frameworks/R.framework/Resources/bin/R CMD INSTALL CiteFuse StartedAt: 2025-10-22 15:29:54 -0400 (Wed, 22 Oct 2025) EndedAt: 2025-10-22 15:30:12 -0400 (Wed, 22 Oct 2025) EllapsedTime: 18.6 seconds RetCode: 0 Status: OK