Package: CiteFuse Version: 1.21.1 Command: /Library/Frameworks/R.framework/Resources/bin/R CMD build --keep-empty-dirs --no-resave-data CiteFuse StartedAt: 2025-10-22 15:56:31 -0400 (Wed, 22 Oct 2025) EndedAt: 2025-10-22 15:57:32 -0400 (Wed, 22 Oct 2025) EllapsedTime: 60.7 seconds RetCode: 0 Status: OK PackageFile: CiteFuse_1.21.1.tar.gz PackageFileSize: 3.195 MiB