Package: CircSeqAlignTk Version: 1.11.2 Command: /home/biocbuild/R/R/bin/R CMD INSTALL CircSeqAlignTk StartedAt: 2025-10-09 22:01:33 -0000 (Thu, 09 Oct 2025) EndedAt: 2025-10-09 22:02:29 -0000 (Thu, 09 Oct 2025) EllapsedTime: 56.4 seconds RetCode: 0 Status: OK