Package: CircSeqAlignTk Version: 1.11.2 Command: /home/biocbuild/R/R/bin/R CMD build --keep-empty-dirs --no-resave-data CircSeqAlignTk StartedAt: 2025-10-09 23:32:42 -0000 (Thu, 09 Oct 2025) EndedAt: 2025-10-09 23:36:15 -0000 (Thu, 09 Oct 2025) EllapsedTime: 213.0 seconds RetCode: 0 Status: OK PackageFile: CircSeqAlignTk_1.11.2.tar.gz PackageFileSize: 1.577 MiB