Package: CircSeqAlignTk Version: 1.11.2 Command: chmod a+r CircSeqAlignTk -R && F:\biocbuild\bbs-3.22-bioc\R\bin\R.exe CMD build --keep-empty-dirs --no-resave-data CircSeqAlignTk StartedAt: 2025-08-14 19:08:20 -0400 (Thu, 14 Aug 2025) EndedAt: 2025-08-14 19:10:53 -0400 (Thu, 14 Aug 2025) EllapsedTime: 153.9 seconds RetCode: 0 Status: OK PackageFile: CircSeqAlignTk_1.11.2.tar.gz PackageFileSize: 1.572 MiB