Package: CircSeqAlignTk Version: 1.11.2 Command: rm -rf CircSeqAlignTk.buildbin-libdir && mkdir CircSeqAlignTk.buildbin-libdir && F:\biocbuild\bbs-3.22-bioc\R\bin\R.exe CMD INSTALL --build --library=CircSeqAlignTk.buildbin-libdir CircSeqAlignTk_1.11.2.tar.gz StartedAt: 2025-08-15 09:57:54 -0400 (Fri, 15 Aug 2025) EndedAt: 2025-08-15 09:59:35 -0400 (Fri, 15 Aug 2025) EllapsedTime: 100.8 seconds RetCode: 0 Status: OK PackageFile: CircSeqAlignTk_1.11.2.zip PackageFileSize: 1.512 MiB