Package: CircSeqAlignTk Version: 1.11.2 Command: /home/biocbuild/bbs-3.22-bioc/R/bin/R CMD check --install=check:CircSeqAlignTk.install-out.txt --library=/home/biocbuild/bbs-3.22-bioc/R/site-library --timings CircSeqAlignTk_1.11.2.tar.gz StartedAt: 2025-10-03 22:15:47 -0400 (Fri, 03 Oct 2025) EndedAt: 2025-10-03 22:23:31 -0400 (Fri, 03 Oct 2025) EllapsedTime: 463.6 seconds RetCode: 0 Status: OK CheckDir: CircSeqAlignTk.Rcheck Warnings: 0