Package: CircSeqAlignTk Version: 1.13.0 Command: /home/biocbuild/bbs-3.23-bioc/R/bin/R CMD INSTALL CircSeqAlignTk StartedAt: 2025-11-04 15:50:38 -0500 (Tue, 04 Nov 2025) EndedAt: 2025-11-04 15:51:25 -0500 (Tue, 04 Nov 2025) EllapsedTime: 47.4 seconds RetCode: 0 Status: OK