Package: CircSeqAlignTk Version: 1.13.0 Command: /home/biocbuild/bbs-3.23-bioc/R/bin/R CMD check --install=check:CircSeqAlignTk.install-out.txt --library=/home/biocbuild/bbs-3.23-bioc/R/site-library --timings CircSeqAlignTk_1.13.0.tar.gz StartedAt: 2025-11-06 21:54:08 -0500 (Thu, 06 Nov 2025) EndedAt: 2025-11-06 22:01:45 -0500 (Thu, 06 Nov 2025) EllapsedTime: 457.7 seconds RetCode: 0 Status: OK CheckDir: CircSeqAlignTk.Rcheck Warnings: 0