Package: CircSeqAlignTk Version: 1.13.0 Command: /home/biocbuild/bbs-3.23-bioc/R/bin/R CMD build --keep-empty-dirs --no-resave-data CircSeqAlignTk StartedAt: 2025-11-05 16:54:23 -0500 (Wed, 05 Nov 2025) EndedAt: 2025-11-05 16:56:53 -0500 (Wed, 05 Nov 2025) EllapsedTime: 150.1 seconds RetCode: 0 Status: OK PackageFile: CircSeqAlignTk_1.13.0.tar.gz PackageFileSize: 1.773 MiB