Package: Chromatograms Version: 1.1.0 Command: /home/biocbuild/bbs-3.23-bioc/R/bin/R CMD build --keep-empty-dirs --no-resave-data Chromatograms StartedAt: 2025-11-05 16:53:10 -0500 (Wed, 05 Nov 2025) EndedAt: 2025-11-05 16:53:43 -0500 (Wed, 05 Nov 2025) EllapsedTime: 33.0 seconds RetCode: 0 Status: OK PackageFile: Chromatograms_1.1.0.tar.gz PackageFileSize: 957.5 KiB