Package: Chromatograms Version: 0.99.7 Command: /Library/Frameworks/R.framework/Resources/bin/R CMD INSTALL Chromatograms StartedAt: 2025-10-22 15:17:10 -0400 (Wed, 22 Oct 2025) EndedAt: 2025-10-22 15:17:24 -0400 (Wed, 22 Oct 2025) EllapsedTime: 13.7 seconds RetCode: 0 Status: OK