Package: Chromatograms Version: 0.99.7 Command: /Library/Frameworks/R.framework/Resources/bin/R CMD build --keep-empty-dirs --no-resave-data Chromatograms StartedAt: 2025-10-22 16:24:36 -0400 (Wed, 22 Oct 2025) EndedAt: 2025-10-22 16:25:28 -0400 (Wed, 22 Oct 2025) EllapsedTime: 51.4 seconds RetCode: 0 Status: OK PackageFile: Chromatograms_0.99.7.tar.gz PackageFileSize: 968.4 KiB