Package: Chromatograms Version: 0.99.7 Command: rm -rf Chromatograms.buildbin-libdir && mkdir Chromatograms.buildbin-libdir && /Users/biocbuild/BBS/utils/build-universal.sh Chromatograms_0.99.7.tar.gz /Library/Frameworks/R.framework/Resources/bin/R Chromatograms.buildbin-libdir StartedAt: 2025-10-23 01:25:06 -0400 (Thu, 23 Oct 2025) EndedAt: 2025-10-23 01:25:28 -0400 (Thu, 23 Oct 2025) EllapsedTime: 21.9 seconds RetCode: 0 Status: OK PackageFile: Chromatograms_0.99.7.tgz PackageFileSize: 1.321 MiB