Package: Chromatograms Version: 0.99.6 Command: /Library/Frameworks/R.framework/Resources/bin/R CMD INSTALL Chromatograms StartedAt: 2025-10-09 15:08:16 -0400 (Thu, 09 Oct 2025) EndedAt: 2025-10-09 15:08:23 -0400 (Thu, 09 Oct 2025) EllapsedTime: 6.5 seconds RetCode: 0 Status: OK