Package: Chromatograms Version: 0.99.6 Command: /Library/Frameworks/R.framework/Resources/bin/R CMD build --keep-empty-dirs --no-resave-data Chromatograms StartedAt: 2025-10-09 15:55:42 -0400 (Thu, 09 Oct 2025) EndedAt: 2025-10-09 15:55:59 -0400 (Thu, 09 Oct 2025) EllapsedTime: 17.2 seconds RetCode: 0 Status: OK PackageFile: Chromatograms_0.99.6.tar.gz PackageFileSize: 854.8 KiB