Package: Chromatograms Version: 0.99.6 Command: rm -rf Chromatograms.buildbin-libdir && mkdir Chromatograms.buildbin-libdir && /Users/biocbuild/BBS/utils/build-universal.sh Chromatograms_0.99.6.tar.gz /Library/Frameworks/R.framework/Resources/bin/R Chromatograms.buildbin-libdir StartedAt: 2025-10-09 22:35:24 -0400 (Thu, 09 Oct 2025) EndedAt: 2025-10-09 22:35:30 -0400 (Thu, 09 Oct 2025) EllapsedTime: 6.1 seconds RetCode: 0 Status: OK PackageFile: Chromatograms_0.99.6.tgz PackageFileSize: 1.201 MiB