Package: ChromSCape Version: 1.19.1 Command: /home/biocbuild/R/R/bin/R CMD INSTALL ChromSCape StartedAt: 2025-10-13 21:45:39 -0000 (Mon, 13 Oct 2025) EndedAt: 2025-10-13 21:46:49 -0000 (Mon, 13 Oct 2025) EllapsedTime: 69.6 seconds RetCode: 0 Status: OK