Package: ChromSCape Version: 1.19.1 Command: /home/biocbuild/R/R/bin/R CMD build --keep-empty-dirs --no-resave-data ChromSCape StartedAt: 2025-10-13 23:08:29 -0000 (Mon, 13 Oct 2025) EndedAt: 2025-10-13 23:10:00 -0000 (Mon, 13 Oct 2025) EllapsedTime: 91.0 seconds RetCode: 0 Status: OK PackageFile: ChromSCape_1.19.1.tar.gz PackageFileSize: 5.535 MiB