Package: ChromSCape Version: 1.19.1 Command: /home/biocbuild/bbs-3.22-bioc/R/bin/R CMD check --install=check:ChromSCape.install-out.txt --library=/home/biocbuild/bbs-3.22-bioc/R/site-library --timings ChromSCape_1.19.1.tar.gz StartedAt: 2025-09-29 22:30:40 -0400 (Mon, 29 Sep 2025) EndedAt: 2025-09-29 22:44:53 -0400 (Mon, 29 Sep 2025) EllapsedTime: 853.0 seconds RetCode: 0 Status: WARNINGS CheckDir: ChromSCape.Rcheck Warnings: 1