Package: ChromSCape Version: 1.21.0 Command: /home/biocbuild/bbs-3.23-bioc/R/bin/R CMD INSTALL ChromSCape StartedAt: 2025-11-04 15:54:28 -0500 (Tue, 04 Nov 2025) EndedAt: 2025-11-04 15:55:22 -0500 (Tue, 04 Nov 2025) EllapsedTime: 54.3 seconds RetCode: 0 Status: OK