Package: ChromSCape Version: 1.21.0 Command: /home/biocbuild/bbs-3.23-bioc/R/bin/R CMD check --install=check:ChromSCape.install-out.txt --library=/home/biocbuild/bbs-3.23-bioc/R/site-library --timings ChromSCape_1.21.0.tar.gz StartedAt: 2025-11-06 21:52:01 -0500 (Thu, 06 Nov 2025) EndedAt: 2025-11-06 22:05:34 -0500 (Thu, 06 Nov 2025) EllapsedTime: 812.1 seconds RetCode: 0 Status: WARNINGS CheckDir: ChromSCape.Rcheck Warnings: 1