Package: ChromHeatMap Version: 1.65.0 Command: /home/biocbuild/bbs-3.23-bioc/R/bin/R CMD INSTALL ChromHeatMap StartedAt: 2025-11-03 15:27:40 -0500 (Mon, 03 Nov 2025) EndedAt: 2025-11-03 15:28:14 -0500 (Mon, 03 Nov 2025) EllapsedTime: 34.4 seconds RetCode: 0 Status: OK