Package: ChromHeatMap Version: 1.65.0 Command: /home/biocbuild/bbs-3.23-bioc/R/bin/R CMD build --keep-empty-dirs --no-resave-data ChromHeatMap StartedAt: 2025-11-03 16:46:01 -0500 (Mon, 03 Nov 2025) EndedAt: 2025-11-03 16:46:49 -0500 (Mon, 03 Nov 2025) EllapsedTime: 48.0 seconds RetCode: 0 Status: OK PackageFile: ChromHeatMap_1.65.0.tar.gz PackageFileSize: 318.3 KiB