Package: Chicago Version: 1.39.0 Command: /home/biocbuild/bbs-3.23-bioc/R/bin/R CMD INSTALL Chicago StartedAt: 2025-11-02 15:14:20 -0500 (Sun, 02 Nov 2025) EndedAt: 2025-11-02 15:14:51 -0500 (Sun, 02 Nov 2025) EllapsedTime: 31.0 seconds RetCode: 0 Status: OK