Package: Chicago Version: 1.39.0 Command: /home/biocbuild/bbs-3.23-bioc/R/bin/R CMD build --keep-empty-dirs --no-resave-data Chicago StartedAt: 2025-11-03 16:43:50 -0500 (Mon, 03 Nov 2025) EndedAt: 2025-11-03 16:45:22 -0500 (Mon, 03 Nov 2025) EllapsedTime: 92.1 seconds RetCode: 0 Status: OK PackageFile: Chicago_1.39.0.tar.gz PackageFileSize: 1.249 MiB