Package: Chicago Version: 1.39.0 Command: /Library/Frameworks/R.framework/Resources/bin/R CMD INSTALL Chicago StartedAt: 2025-11-20 15:15:04 -0500 (Thu, 20 Nov 2025) EndedAt: 2025-11-20 15:15:43 -0500 (Thu, 20 Nov 2025) EllapsedTime: 39.0 seconds RetCode: 0 Status: OK