Package: Chicago Version: 1.39.0 Command: /Library/Frameworks/R.framework/Resources/bin/R CMD build --keep-empty-dirs --no-resave-data Chicago StartedAt: 2025-11-20 16:26:41 -0500 (Thu, 20 Nov 2025) EndedAt: 2025-11-20 16:28:39 -0500 (Thu, 20 Nov 2025) EllapsedTime: 117.7 seconds RetCode: 0 Status: OK PackageFile: Chicago_1.39.0.tar.gz PackageFileSize: 1.211 MiB