Package: Chicago Version: 1.37.1 Command: /Library/Frameworks/R.framework/Resources/bin/R CMD build --keep-empty-dirs --no-resave-data Chicago StartedAt: 2025-10-23 15:54:51 -0400 (Thu, 23 Oct 2025) EndedAt: 2025-10-23 15:55:32 -0400 (Thu, 23 Oct 2025) EllapsedTime: 40.5 seconds RetCode: 0 Status: OK PackageFile: Chicago_1.37.1.tar.gz PackageFileSize: 1.211 MiB