Package: ChemmineR Version: 3.61.2 Command: /home/biocbuild/R/R/bin/R CMD INSTALL ChemmineR StartedAt: 2025-10-13 20:45:54 -0000 (Mon, 13 Oct 2025) EndedAt: 2025-10-13 20:46:28 -0000 (Mon, 13 Oct 2025) EllapsedTime: 34.3 seconds RetCode: 0 Status: OK