Package: ChemmineR Version: 3.61.1 Command: chmod a+r ChemmineR -R && F:\biocbuild\bbs-3.22-bioc\R\bin\R.exe CMD build --keep-empty-dirs --no-resave-data ChemmineR StartedAt: 2025-08-14 19:04:20 -0400 (Thu, 14 Aug 2025) EndedAt: 2025-08-14 19:06:37 -0400 (Thu, 14 Aug 2025) EllapsedTime: 137.5 seconds RetCode: 1 Status: ERROR PackageFile: None PackageFileSize: NA